BEGIN:VCALENDAR
VERSION:2.0
PRODID:-//Turnverein Forbach - ECPv6.15.17.1//NONSGML v1.0//EN
CALSCALE:GREGORIAN
METHOD:PUBLISH
X-ORIGINAL-URL:https://www.tvforbach.de
X-WR-CALDESC:Veranstaltungen für Turnverein Forbach
REFRESH-INTERVAL;VALUE=DURATION:PT1H
X-Robots-Tag:noindex
X-PUBLISHED-TTL:PT1H
BEGIN:VTIMEZONE
TZID:Europe/Berlin
BEGIN:DAYLIGHT
TZOFFSETFROM:+0100
TZOFFSETTO:+0200
TZNAME:CEST
DTSTART:20250330T010000
END:DAYLIGHT
BEGIN:STANDARD
TZOFFSETFROM:+0200
TZOFFSETTO:+0100
TZNAME:CET
DTSTART:20251026T010000
END:STANDARD
BEGIN:DAYLIGHT
TZOFFSETFROM:+0100
TZOFFSETTO:+0200
TZNAME:CEST
DTSTART:20260329T010000
END:DAYLIGHT
BEGIN:STANDARD
TZOFFSETFROM:+0200
TZOFFSETTO:+0100
TZNAME:CET
DTSTART:20261025T010000
END:STANDARD
BEGIN:DAYLIGHT
TZOFFSETFROM:+0100
TZOFFSETTO:+0200
TZNAME:CEST
DTSTART:20270328T010000
END:DAYLIGHT
BEGIN:STANDARD
TZOFFSETFROM:+0200
TZOFFSETTO:+0100
TZNAME:CET
DTSTART:20271031T010000
END:STANDARD
END:VTIMEZONE
BEGIN:VEVENT
DTSTART;TZID=Europe/Berlin:20260502T100000
DTEND;TZID=Europe/Berlin:20260502T151500
DTSTAMP:20260421T123656
CREATED:20260327T131336Z
LAST-MODIFIED:20260327T132922Z
UID:9213-1777716000-1777734900@www.tvforbach.de
SUMMARY:Selbstverteidigung für Erwachsene
DESCRIPTION:
URL:https://www.tvforbach.de/events/selbstverteidigung-fuer-erwachsene/
LOCATION:Sporthalle Forbach\, Hauptstraße 72\, Forbach\, 76596
CATEGORIES:Events
ATTACH;FMTTYPE=image/jpeg:https://www.tvforbach.de/wp-content/uploads/2026/01/Selbstverteidigungskurs-Erwachsene-2026-e1774617361252.jpeg
END:VEVENT
BEGIN:VEVENT
DTSTART;TZID=Europe/Berlin:20260704T100000
DTEND;TZID=Europe/Berlin:20260704T124500
DTSTAMP:20260421T123656
CREATED:20260327T131852Z
LAST-MODIFIED:20260327T131852Z
UID:9217-1783159200-1783169100@www.tvforbach.de
SUMMARY:Gewaltschutz für Jugendliche
DESCRIPTION:
URL:https://www.tvforbach.de/events/gewaltschutz-fuer-jugendliche/
LOCATION:Sporthalle Forbach\, Hauptstraße 72\, Forbach\, 76596
CATEGORIES:Events
END:VEVENT
BEGIN:VEVENT
DTSTART;TZID=Europe/Berlin:20261017T100000
DTEND;TZID=Europe/Berlin:20261017T124500
DTSTAMP:20260421T123656
CREATED:20260327T132035Z
LAST-MODIFIED:20260327T132035Z
UID:9219-1792231200-1792241100@www.tvforbach.de
SUMMARY:Gewaltschutz für Kinder
DESCRIPTION:
URL:https://www.tvforbach.de/events/gewaltschutz-fuer-kinder/
LOCATION:Sporthalle Forbach\, Hauptstraße 72\, Forbach\, 76596
CATEGORIES:Events
END:VEVENT
BEGIN:VEVENT
DTSTART;TZID=Europe/Berlin:20261024T100000
DTEND;TZID=Europe/Berlin:20261024T124500
DTSTAMP:20260421T123656
CREATED:20260327T132220Z
LAST-MODIFIED:20260327T132220Z
UID:9221-1792836000-1792845900@www.tvforbach.de
SUMMARY:Gewaltschutz für Kinder
DESCRIPTION:
URL:https://www.tvforbach.de/events/gewaltschutz-fuer-kinder-2/
LOCATION:Sporthalle Forbach\, Hauptstraße 72\, Forbach\, 76596
END:VEVENT
END:VCALENDAR